BEGIN:VCALENDAR
VERSION:2.0
PRODID:-//Walnut Hills High School//Calendar//EN
CALSCALE:GREGORIAN
METHOD:PUBLISH
X-WR-CALNAME:Walnut Hills High School Events
X-WR-CALDESC:School events and activities
X-WR-TIMEZONE:America/New_York
BEGIN:VEVENT
UID:whhs-event-369@walnuthillseagles.com
DTSTART:20260420T080000
DTEND:20260420T114500
SUMMARY:Counselors
DESCRIPTION:Join with Google Meet: https://meet.google.com/riq-xvfh-beq\n\nLearn more about Meet at: https://support.google.com/a/users/answer/9282720\n\nAudience: Google
LOCATION:Conference Room
DTSTAMP:20260420T125150Z
STATUS:CONFIRMED
TRANSP:OPAQUE
END:VEVENT
BEGIN:VEVENT
UID:whhs-event-275@walnuthillseagles.com
DTSTART:20260420T120000
DTEND:20260420T150000
SUMMARY:AS Deliberation Meeting
DESCRIPTION:Join with Google Meet: https://meet.google.com/kwm-qbxt-yjd\n\nLearn more about Meet at: https://support.google.com/a/users/answer/9282720\n\nAudience: Google
LOCATION:Conference Room
DTSTAMP:20260420T125150Z
STATUS:CONFIRMED
TRANSP:OPAQUE
END:VEVENT
BEGIN:VEVENT
UID:whhs-event-276@walnuthillseagles.com
DTSTART:20260420T150500
DTEND:20260420T160000
SUMMARY:PBIS Committee Meeting
DESCRIPTION:Audience: Google
LOCATION:Conference Room
DTSTAMP:20260420T125150Z
STATUS:CONFIRMED
TRANSP:OPAQUE
END:VEVENT
BEGIN:VEVENT
UID:whhs-event-358@walnuthillseagles.com
DTSTART:20260421T080000
DTEND:20260421T094500
SUMMARY:Ethics Bowl
DESCRIPTION:Audience: Google
LOCATION:Conference Room
DTSTAMP:20260420T125150Z
STATUS:CONFIRMED
TRANSP:OPAQUE
END:VEVENT
BEGIN:VEVENT
UID:whhs-event-277@walnuthillseagles.com
DTSTART:20260421T104500
DTEND:20260421T121500
SUMMARY:PLC Meeting
DESCRIPTION:Join with Google Meet: https://meet.google.com/zdt-uguq-cem\n\nLearn more about Meet at: https://support.google.com/a/users/answer/9282720\n\nAudience: Google
LOCATION:Conference Room
DTSTAMP:20260420T125151Z
STATUS:CONFIRMED
TRANSP:OPAQUE
END:VEVENT
BEGIN:VEVENT
UID:whhs-event-278@walnuthillseagles.com
DTSTART:20260421T131500
DTEND:20260421T140500
SUMMARY:UC Ambassador
DESCRIPTION:Audience: Google
LOCATION:Conference Room
DTSTAMP:20260420T125151Z
STATUS:CONFIRMED
TRANSP:OPAQUE
END:VEVENT
BEGIN:VEVENT
UID:whhs-event-279@walnuthillseagles.com
DTSTART:20260421T141000
DTEND:20260421T150000
SUMMARY:BCC
DESCRIPTION:Join with Google Meet: https://meet.google.com/tmy-nxov-qab\n\nLearn more about Meet at: https://support.google.com/a/users/answer/9282720\n\nAudience: Google
LOCATION:Conference Room
DTSTAMP:20260420T125151Z
STATUS:CONFIRMED
TRANSP:OPAQUE
END:VEVENT
BEGIN:VEVENT
UID:whhs-event-370@walnuthillseagles.com
DTSTART:20260422T080000
DTEND:20260422T114500
SUMMARY:Counselors
DESCRIPTION:Audience: Google
LOCATION:Conference Room
DTSTAMP:20260420T125151Z
STATUS:CONFIRMED
TRANSP:OPAQUE
END:VEVENT
BEGIN:VEVENT
UID:whhs-event-174@walnuthillseagles.com
DTSTART:20260422T090000
DTEND:20260422T103000
SUMMARY:Counselor Meeting
DESCRIPTION:Audience: Faculty & Staff
LOCATION:Conference Room
DTSTAMP:20260420T125151Z
STATUS:CONFIRMED
TRANSP:OPAQUE
END:VEVENT
BEGIN:VEVENT
UID:whhs-event-280@walnuthillseagles.com
DTSTART:20260422T120000
DTEND:20260422T150000
SUMMARY:AS Deliberation Meeting
DESCRIPTION:Audience: Google
LOCATION:Conference Room
DTSTAMP:20260420T125151Z
STATUS:CONFIRMED
TRANSP:OPAQUE
END:VEVENT
BEGIN:VEVENT
UID:whhs-event-359@walnuthillseagles.com
DTSTART:20260423T095000
DTEND:20260423T113500
SUMMARY:Ethics Bowl
DESCRIPTION:Join with Google Meet: https://meet.google.com/moh-gbao-eqh\n\nLearn more about Meet at: https://support.google.com/a/users/answer/9282720\n\nAudience: Google
LOCATION:Conference Room
DTSTAMP:20260420T125151Z
STATUS:CONFIRMED
TRANSP:OPAQUE
END:VEVENT
BEGIN:VEVENT
UID:whhs-event-197@walnuthillseagles.com
DTSTART:20260423T190000
DTEND:20260423T203000
SUMMARY:WHHS Theatre Presents: Matlida Jr (Junior High Musical)
DESCRIPTION:TicketsRebellion is on the syllabus in Matilda Jr.\, the enchanting musical adaptation of Roald Dahl’s beloved story. Featuring a brilliant young girl with a sharp mind and extraordinary powers\, Matilda Jr. is a heartwarming tale of courage\, friendship\, and standing up for what’s right. With catchy songs and high-energy choreography\, this production will captivate audiences of all ages.\n\nAudience: Community, Donors, Faculty & Staff, Parents & Guardians, Prospective Families, Students\nDepartment: Fine Arts\nGrade Level: 7th Grade, 8th Grade, 9th Grade, 10th Grade, 11th Grade, 12th Grade
LOCATION:Auditorium
DTSTAMP:20260420T125151Z
STATUS:CONFIRMED
TRANSP:OPAQUE
END:VEVENT
BEGIN:VEVENT
UID:whhs-event-281@walnuthillseagles.com
DTSTART:20260423T190000
DTEND:20260423T210000
SUMMARY:Junior High Musical
DESCRIPTION:Audience: Google
LOCATION:Walnut Hills High School Auditorium\, 1501 Blair Ave\, Cincinnati\, OH 45207\, USA
DTSTAMP:20260420T125151Z
STATUS:CONFIRMED
TRANSP:OPAQUE
END:VEVENT
BEGIN:VEVENT
UID:whhs-event-282@walnuthillseagles.com
DTSTART:20260424T090000
DTEND:20260424T120000
SUMMARY:AS Deliberation Meeting
DESCRIPTION:Audience: Google
LOCATION:Conference Room
DTSTAMP:20260420T125151Z
STATUS:CONFIRMED
TRANSP:OPAQUE
END:VEVENT
BEGIN:VEVENT
UID:whhs-event-283@walnuthillseagles.com
DTSTART:20260424T190000
DTEND:20260424T210000
SUMMARY:Junior High Musical
DESCRIPTION:Audience: Google
LOCATION:Walnut Hills High School Auditorium\, 1501 Blair Ave\, Cincinnati\, OH 45207\, USA
DTSTAMP:20260420T125151Z
STATUS:CONFIRMED
TRANSP:OPAQUE
END:VEVENT
BEGIN:VEVENT
UID:whhs-event-284@walnuthillseagles.com
DTSTART:20260424T203000
DTEND:20260424T233000
SUMMARY:Jr./Sr. Prom
DESCRIPTION:Buy Tickets\n\nAudience: Google
LOCATION:TQL Stadium\, 1501 Central Pkwy\, Cincinnati\, OH 45214\, USA
DTSTAMP:20260420T125151Z
STATUS:CONFIRMED
TRANSP:OPAQUE
END:VEVENT
BEGIN:VEVENT
UID:whhs-event-351@walnuthillseagles.com
DTSTART:20260424T203000
DTEND:20260424T233000
SUMMARY:Prom
DESCRIPTION:Buy Tickets\n\nAudience: Google
LOCATION:TQL Stadium\, 1501 Central Pkwy\, Cincinnati\, OH 45214\, USA
DTSTAMP:20260420T125151Z
STATUS:CONFIRMED
TRANSP:OPAQUE
END:VEVENT
BEGIN:VEVENT
UID:whhs-event-131@walnuthillseagles.com
DTSTART:20260424
DTEND:20260424
SUMMARY:Jr./Sr. Prom
DESCRIPTION:Buy Tickets\n\nAudience: Faculty & Staff, Parents & Guardians, Students\nGrade Level: 11th Grade, 12th Grade
LOCATION:TQL Stadium
DTSTAMP:20260420T125151Z
STATUS:CONFIRMED
TRANSP:OPAQUE
END:VEVENT
BEGIN:VEVENT
UID:whhs-event-371@walnuthillseagles.com
DTSTART:20260425T070000
DTEND:20260425T093000
SUMMARY:Math Placement Testing
DESCRIPTION:Audience: Google
LOCATION:Cafeteria Main
DTSTAMP:20260420T125151Z
STATUS:CONFIRMED
TRANSP:OPAQUE
END:VEVENT
BEGIN:VEVENT
UID:whhs-event-285@walnuthillseagles.com
DTSTART:20260425T080000
DTEND:20260425T110000
SUMMARY:Math Placement Test for incoming students
DESCRIPTION:Audience: Google
DTSTAMP:20260420T125151Z
STATUS:CONFIRMED
TRANSP:OPAQUE
END:VEVENT
BEGIN:VEVENT
UID:whhs-event-286@walnuthillseagles.com
DTSTART:20260425T090000
DTEND:20260425T120000
SUMMARY:Incoming student music auditions
DESCRIPTION:Audience: Google
DTSTAMP:20260420T125151Z
STATUS:CONFIRMED
TRANSP:OPAQUE
END:VEVENT
BEGIN:VEVENT
UID:whhs-event-354@walnuthillseagles.com
DTSTART:20260425T090000
DTEND:20260425T120000
SUMMARY:Music Placement Audition
DESCRIPTION:Use this link to register: https://docs.google.com/forms/d/e/1FAIpQLScEJezPQ95ffB9XIyjqR9aac-jmA_Bz7-cSXkZPTqhwph3AAw/viewform\n\nAudience: Google
DTSTAMP:20260420T125151Z
STATUS:CONFIRMED
TRANSP:OPAQUE
END:VEVENT
BEGIN:VEVENT
UID:whhs-event-199@walnuthillseagles.com
DTSTART:20260425T140000
DTEND:20260425T153000
SUMMARY:WHHS Theatre Presents: Matilda JR (Junior High Musical)
DESCRIPTION:TicketsRebellion is on the syllabus in Matilda Jr.\, the enchanting musical adaptation of Roald Dahl’s beloved story. Featuring a brilliant young girl with a sharp mind and extraordinary powers\, Matilda Jr. is a heartwarming tale of courage\, friendship\, and standing up for what’s right. With catchy songs and high-energy choreography\, this production will captivate audiences of all ages.\n\nAudience: Community, Donors, Faculty & Staff, Parents & Guardians, Prospective Families, Students\nDepartment: Fine Arts\nGrade Level: 7th Grade, 8th Grade, 9th Grade, 10th Grade, 11th Grade, 12th Grade
LOCATION:Auditorium
DTSTAMP:20260420T125151Z
STATUS:CONFIRMED
TRANSP:OPAQUE
END:VEVENT
BEGIN:VEVENT
UID:whhs-event-198@walnuthillseagles.com
DTSTART:20260425T190000
DTEND:20260425T203000
SUMMARY:WHHS Theatre Presents: Matilda Jr (Junior High Musical)
DESCRIPTION:TicketsRebellion is on the syllabus in Matilda Jr.\, the enchanting musical adaptation of Roald Dahl’s beloved story. Featuring a brilliant young girl with a sharp mind and extraordinary powers\, Matilda Jr. is a heartwarming tale of courage\, friendship\, and standing up for what’s right. With catchy songs and high-energy choreography\, this production will captivate audiences of all ages.\n\nAudience: Community, Donors, Faculty & Staff, Parents & Guardians, Prospective Families, Students\nDepartment: Fine Arts\nGrade Level: 7th Grade, 8th Grade, 9th Grade, 10th Grade, 11th Grade, 12th Grade
LOCATION:Auditorium
DTSTAMP:20260420T125151Z
STATUS:CONFIRMED
TRANSP:OPAQUE
END:VEVENT
BEGIN:VEVENT
UID:whhs-event-287@walnuthillseagles.com
DTSTART:20260425T190000
DTEND:20260425T210000
SUMMARY:Junior High Musical
DESCRIPTION:Audience: Google
LOCATION:Walnut Hills High School Auditorium\, 1501 Blair Ave\, Cincinnati\, OH 45207\, USA
DTSTAMP:20260420T125151Z
STATUS:CONFIRMED
TRANSP:OPAQUE
END:VEVENT
BEGIN:VEVENT
UID:whhs-event-360@walnuthillseagles.com
DTSTART:20260427T095000
DTEND:20260427T113500
SUMMARY:Ethics Bowl
DESCRIPTION:Audience: Google
LOCATION:Conference Room
DTSTAMP:20260420T125151Z
STATUS:CONFIRMED
TRANSP:OPAQUE
END:VEVENT
BEGIN:VEVENT
UID:whhs-event-288@walnuthillseagles.com
DTSTART:20260428T090000
DTEND:20260428T120000
SUMMARY:AS Deliberation Meeting
DESCRIPTION:Audience: Google
LOCATION:Conference Room
DTSTAMP:20260420T125151Z
STATUS:CONFIRMED
TRANSP:OPAQUE
END:VEVENT
BEGIN:VEVENT
UID:whhs-event-175@walnuthillseagles.com
DTSTART:20260429T090000
DTEND:20260429T103000
SUMMARY:Counselor Meeting
DESCRIPTION:Audience: Faculty & Staff
LOCATION:Conference Room
DTSTAMP:20260420T125151Z
STATUS:CONFIRMED
TRANSP:OPAQUE
END:VEVENT
BEGIN:VEVENT
UID:whhs-event-289@walnuthillseagles.com
DTSTART:20260429T140000
DTEND:20260429T160000
SUMMARY:Junior book Awards
DESCRIPTION:Join with Google Meet: https://meet.google.com/pfm-tnqh-yrr\n\nLearn more about Meet at: https://support.google.com/a/users/answer/9282720\n\nAudience: Google
LOCATION:Recital Hall
DTSTAMP:20260420T125151Z
STATUS:CONFIRMED
TRANSP:OPAQUE
END:VEVENT
BEGIN:VEVENT
UID:whhs-event-290@walnuthillseagles.com
DTSTART:20260429T151000
DTEND:20260429T160000
SUMMARY:Yoga Club
DESCRIPTION:Audience: Google
LOCATION:Forum
DTSTAMP:20260420T125151Z
STATUS:CONFIRMED
TRANSP:OPAQUE
END:VEVENT
BEGIN:VEVENT
UID:whhs-event-132@walnuthillseagles.com
DTSTART:20260429T151500
DTEND:20260429T161500
SUMMARY:Counseling Department Meeting
LOCATION:Conference Room
DTSTAMP:20260420T125151Z
STATUS:CONFIRMED
TRANSP:OPAQUE
END:VEVENT
BEGIN:VEVENT
UID:whhs-event-291@walnuthillseagles.com
DTSTART:20260429T151500
DTEND:20260429T161500
SUMMARY:Counseling Department Meeting
DESCRIPTION:Audience: Google
LOCATION:Conference Room
DTSTAMP:20260420T125151Z
STATUS:CONFIRMED
TRANSP:OPAQUE
END:VEVENT
BEGIN:VEVENT
UID:whhs-event-292@walnuthillseagles.com
DTSTART:20260429T190000
DTEND:20260429T210000
SUMMARY:Coast to Coast College Information Session
DESCRIPTION:Audience: Google
LOCATION:Auditorium
DTSTAMP:20260420T125151Z
STATUS:CONFIRMED
TRANSP:OPAQUE
END:VEVENT
BEGIN:VEVENT
UID:whhs-event-293@walnuthillseagles.com
DTSTART:20260430T120000
DTEND:20260430T150000
SUMMARY:AS Deliberation Meeting
DESCRIPTION:Audience: Google
LOCATION:Conference Room
DTSTAMP:20260420T125151Z
STATUS:CONFIRMED
TRANSP:OPAQUE
END:VEVENT
BEGIN:VEVENT
UID:whhs-event-333@walnuthillseagles.com
DTSTART:20260430T151500
DTEND:20260430T171500
SUMMARY:Soul Food 
DESCRIPTION:Audience: Google
LOCATION:Cafeteria (All spaces)
DTSTAMP:20260420T125151Z
STATUS:CONFIRMED
TRANSP:OPAQUE
END:VEVENT
BEGIN:VEVENT
UID:whhs-event-294@walnuthillseagles.com
DTSTART:20260430T190000
DTEND:20260430T210000
SUMMARY:Spring Jazz Ensembles Concert
DESCRIPTION:Audience: Google
LOCATION:Walnut Hills High School Auditorium\, 1501 Blair Ave\, Cincinnati\, OH 45207\, USA
DTSTAMP:20260420T125151Z
STATUS:CONFIRMED
TRANSP:OPAQUE
END:VEVENT
BEGIN:VEVENT
UID:whhs-event-295@walnuthillseagles.com
DTSTART:20260501T173000
DTEND:20260501T203000
SUMMARY:Suzuki Flute Class
DESCRIPTION:Audience: Google
LOCATION:Choir Room (2840)
DTSTAMP:20260420T125151Z
STATUS:CONFIRMED
TRANSP:OPAQUE
END:VEVENT
BEGIN:VEVENT
UID:whhs-event-296@walnuthillseagles.com
DTSTART:20260502T070000
DTEND:20260502T130000
SUMMARY:National SAT Testing
DESCRIPTION:Audience: Google
DTSTAMP:20260420T125151Z
STATUS:CONFIRMED
TRANSP:OPAQUE
END:VEVENT
BEGIN:VEVENT
UID:whhs-event-297@walnuthillseagles.com
DTSTART:20260504T080000
DTEND:20260504T160000
SUMMARY:AP Exams
DESCRIPTION:Audience: Google
LOCATION:Conference Room
DTSTAMP:20260420T125151Z
STATUS:CONFIRMED
TRANSP:OPAQUE
END:VEVENT
BEGIN:VEVENT
UID:whhs-event-298@walnuthillseagles.com
DTSTART:20260504T120000
DTEND:20260504T150000
SUMMARY:AS Deliberation Meeting
DESCRIPTION:Audience: Google
LOCATION:Writing Center
DTSTAMP:20260420T125151Z
STATUS:CONFIRMED
TRANSP:OPAQUE
END:VEVENT
BEGIN:VEVENT
UID:whhs-event-299@walnuthillseagles.com
DTSTART:20260504T184500
DTEND:20260504T201500
SUMMARY:WHIP Meeting
DESCRIPTION:Audience: Google
LOCATION:Conference Room
DTSTAMP:20260420T125151Z
STATUS:CONFIRMED
TRANSP:OPAQUE
END:VEVENT
BEGIN:VEVENT
UID:whhs-event-133@walnuthillseagles.com
DTSTART:20260504
DTEND:20260515
SUMMARY:AP Exams
DESCRIPTION:Audience: Faculty & Staff, Parents & Guardians, Students\nDepartment: Algebra, Biology, Chemistry, Classics, Composition, Computer Science, English, Fine Arts, Geometry, Literature, Mathematics, Modern World Languages & Culture, Music, Physical Education & Health, Science, Social Studies, Theatre, Visual Arts\nGrade Level: 10th Grade, 11th Grade, 12th Grade
DTSTAMP:20260420T125151Z
STATUS:CONFIRMED
TRANSP:OPAQUE
END:VEVENT
BEGIN:VEVENT
UID:whhs-event-300@walnuthillseagles.com
DTSTART:20260505T080000
DTEND:20260505T160000
SUMMARY:AP Exams
DESCRIPTION:Audience: Google
LOCATION:Conference Room
DTSTAMP:20260420T125151Z
STATUS:CONFIRMED
TRANSP:OPAQUE
END:VEVENT
BEGIN:VEVENT
UID:whhs-event-135@walnuthillseagles.com
DTSTART:20260505T130000
DTEND:20260505T150000
SUMMARY:Mental Health Monthly Meeting
DESCRIPTION:Audience: Faculty & Staff, Parents & Guardians, Students
LOCATION:Conference Room
DTSTAMP:20260420T125151Z
STATUS:CONFIRMED
TRANSP:OPAQUE
END:VEVENT
BEGIN:VEVENT
UID:whhs-event-301@walnuthillseagles.com
DTSTART:20260505T130000
DTEND:20260505T150000
SUMMARY:Mental Health Monthly Meeting
DESCRIPTION:Join with Google Meet: https://meet.google.com/xhs-teze-pyw\nOr dial: (US) +1 484-364-5967 PIN: 508541076#\nMore phone numbers: https://tel.meet/xhs-teze-pyw?pin=9375177886937&hs=7\n\nLearn more about Meet at: https://support.google.com/a/users/answer/9282720\n\nAudience: Google
DTSTAMP:20260420T125151Z
STATUS:CONFIRMED
TRANSP:OPAQUE
END:VEVENT
BEGIN:VEVENT
UID:whhs-event-134@walnuthillseagles.com
DTSTART:20260505
DTEND:20260505
SUMMARY:Cinco de Mayo
DTSTAMP:20260420T125151Z
STATUS:CONFIRMED
TRANSP:OPAQUE
END:VEVENT
BEGIN:VEVENT
UID:whhs-event-302@walnuthillseagles.com
DTSTART:20260506T190000
DTEND:20260506T203000
SUMMARY:Beginning\, Intermediate & Junior Band Concert
DESCRIPTION:Audience: Google
LOCATION:Walnut Hills High School Auditorium\, 1501 Blair Ave\, Cincinnati\, OH 45207\, USA
DTSTAMP:20260420T125151Z
STATUS:CONFIRMED
TRANSP:OPAQUE
END:VEVENT
BEGIN:VEVENT
UID:whhs-event-303@walnuthillseagles.com
DTSTART:20260506T190000
DTEND:20260506T200000
SUMMARY:WHHS Parent Association Meeting
DESCRIPTION:Join with Google Meet: https://meet.google.com/btx-qdxq-xhf\n\nLearn more about Meet at: https://support.google.com/a/users/answer/9282720\n\nAudience: Google
LOCATION:Recital Hall
DTSTAMP:20260420T125151Z
STATUS:CONFIRMED
TRANSP:OPAQUE
END:VEVENT
BEGIN:VEVENT
UID:whhs-event-136@walnuthillseagles.com
DTSTART:20260507T151000
DTEND:20260507T161000
SUMMARY:Eagle Buddies
DESCRIPTION:Audience: Faculty & Staff, Students\nGrade Level: 7th Grade, 8th Grade, 9th Grade, 10th Grade, 11th Grade, 12th Grade
LOCATION:Cafeteria-A
DTSTAMP:20260420T125151Z
STATUS:CONFIRMED
TRANSP:OPAQUE
END:VEVENT
BEGIN:VEVENT
UID:whhs-event-304@walnuthillseagles.com
DTSTART:20260507T190000
DTEND:20260507T210000
SUMMARY:Symphonic Band & Wind Ensemble Concert
DESCRIPTION:Audience: Google
LOCATION:Walnut Hills High School Auditorium\, 1501 Blair Ave\, Cincinnati\, OH 45207\, USA
DTSTAMP:20260420T125151Z
STATUS:CONFIRMED
TRANSP:OPAQUE
END:VEVENT
BEGIN:VEVENT
UID:whhs-event-305@walnuthillseagles.com
DTSTART:20260508T190000
DTEND:20260508T203000
SUMMARY:Steel Band Concert
DESCRIPTION:In case of inclement weather\, concert will be moved to the auditorium.\n\nAudience: Google
LOCATION:Walnut Hills High School Triangle Courtyard
DTSTAMP:20260420T125151Z
STATUS:CONFIRMED
TRANSP:OPAQUE
END:VEVENT
BEGIN:VEVENT
UID:whhs-event-137@walnuthillseagles.com
DTSTART:20260510
DTEND:20260510
SUMMARY:Mother's Day
DTSTAMP:20260420T125151Z
STATUS:CONFIRMED
TRANSP:OPAQUE
END:VEVENT
BEGIN:VEVENT
UID:whhs-event-306@walnuthillseagles.com
DTSTART:20260511T080000
DTEND:20260511T160000
SUMMARY:AP Exams
DESCRIPTION:Audience: Google
LOCATION:Conference Room
DTSTAMP:20260420T125151Z
STATUS:CONFIRMED
TRANSP:OPAQUE
END:VEVENT
BEGIN:VEVENT
UID:whhs-event-138@walnuthillseagles.com
DTSTART:20260511T190000
DTEND:20260511T200000
SUMMARY:WHIP Meeting
DESCRIPTION:Audience: Parents & Guardians\nDepartment: Fine Arts, Music
LOCATION:Conference Room
DTSTAMP:20260420T125151Z
STATUS:CONFIRMED
TRANSP:OPAQUE
END:VEVENT
BEGIN:VEVENT
UID:whhs-event-307@walnuthillseagles.com
DTSTART:20260511T190000
DTEND:20260511T200000
SUMMARY:Junior High Choirs Concert
DESCRIPTION:Student call time is 5:45 pm.\n\nAudience: Google
LOCATION:Walnut Hills High School Auditorium\, 1501 Blair Ave\, Cincinnati\, OH 45207\, USA
DTSTAMP:20260420T125151Z
STATUS:CONFIRMED
TRANSP:OPAQUE
END:VEVENT
BEGIN:VEVENT
UID:whhs-event-308@walnuthillseagles.com
DTSTART:20260512T160000
DTEND:20260512T180000
SUMMARY:Alumni Board Meeting
DESCRIPTION:Join with Google Meet: https://meet.google.com/hzc-mypx-tkh\n\nLearn more about Meet at: https://support.google.com/a/users/answer/9282720\n\nAudience: Google
LOCATION:Conference Room
DTSTAMP:20260420T125151Z
STATUS:CONFIRMED
TRANSP:OPAQUE
END:VEVENT
BEGIN:VEVENT
UID:whhs-event-139@walnuthillseagles.com
DTSTART:20260512T190000
DTEND:20260512T200000
SUMMARY:Wings (Theatre Booster) Meeting
DESCRIPTION:Audience: Parents & Guardians\nDepartment: Fine Arts, Theatre
LOCATION:Conference Room
DTSTAMP:20260420T125151Z
STATUS:CONFIRMED
TRANSP:OPAQUE
END:VEVENT
BEGIN:VEVENT
UID:whhs-event-309@walnuthillseagles.com
DTSTART:20260512T190000
DTEND:20260512T211500
SUMMARY:Senior High Choirs Concert
DESCRIPTION:Student call time is 5:45 pm.\n\nAudience: Google
LOCATION:Walnut Hills High School Auditorium\, 1501 Blair Ave\, Cincinnati\, OH 45207\, USA
DTSTAMP:20260420T125151Z
STATUS:CONFIRMED
TRANSP:OPAQUE
END:VEVENT
BEGIN:VEVENT
UID:whhs-event-310@walnuthillseagles.com
DTSTART:20260513T190000
DTEND:20260513T210000
SUMMARY:Senior & Chamber Orchestra Concert
DESCRIPTION:Audience: Google
LOCATION:Walnut Hills High School Auditorium\, 1501 Blair Ave\, Cincinnati\, OH 45207\, USA
DTSTAMP:20260420T125151Z
STATUS:CONFIRMED
TRANSP:OPAQUE
END:VEVENT
BEGIN:VEVENT
UID:whhs-event-140@walnuthillseagles.com
DTSTART:20260514T180000
DTEND:20260514T190000
SUMMARY:LSDMC Meeting
DESCRIPTION:Audience: Community, Faculty & Staff, Parents & Guardians, Students
LOCATION:Conference Room
DTSTAMP:20260420T125151Z
STATUS:CONFIRMED
TRANSP:OPAQUE
END:VEVENT
BEGIN:VEVENT
UID:whhs-event-311@walnuthillseagles.com
DTSTART:20260514T190000
DTEND:20260514T203000
SUMMARY:Beginning\, Intermediate & Junior Strings Concert
DESCRIPTION:Audience: Google
LOCATION:Walnut Hills High School Auditorium\, 1501 Blair Ave\, Cincinnati\, OH 45207\, USA
DTSTAMP:20260420T125151Z
STATUS:CONFIRMED
TRANSP:OPAQUE
END:VEVENT
BEGIN:VEVENT
UID:whhs-event-361@walnuthillseagles.com
DTSTART:20260518
DTEND:20260518
SUMMARY:Senior Send Off
DESCRIPTION:Immediately following Walk-ThroughSouth Field\n\nAudience: Parents & Guardians, Students\nGrade Level: 12th Grade
DTSTAMP:20260420T125151Z
STATUS:CONFIRMED
TRANSP:OPAQUE
END:VEVENT
BEGIN:VEVENT
UID:whhs-event-312@walnuthillseagles.com
DTSTART:20260519T150500
DTEND:20260519T160000
SUMMARY:PBIS Committee Meeting
DESCRIPTION:Join with Google Meet: https://meet.google.com/kdd-pmzg-pfd\n\nLearn more about Meet at: https://support.google.com/a/users/answer/9282720\n\nAudience: Google
LOCATION:Conference Room
DTSTAMP:20260420T125151Z
STATUS:CONFIRMED
TRANSP:OPAQUE
END:VEVENT
BEGIN:VEVENT
UID:whhs-event-141@walnuthillseagles.com
DTSTART:20260519T173000
DTEND:20260519T190000
SUMMARY:Cap & Gown Passout
DESCRIPTION:Audience: Faculty & Staff, Parents & Guardians, Students\nGrade Level: 12th Grade
LOCATION:Blair Circle/Arcade
DTSTAMP:20260420T125151Z
STATUS:CONFIRMED
TRANSP:OPAQUE
END:VEVENT
BEGIN:VEVENT
UID:whhs-event-313@walnuthillseagles.com
DTSTART:20260519T173000
DTEND:20260519T190000
SUMMARY:Cap & Gown Passout
DESCRIPTION:Audience: Google
LOCATION:Blair Circle/ Arcade
DTSTAMP:20260420T125151Z
STATUS:CONFIRMED
TRANSP:OPAQUE
END:VEVENT
BEGIN:VEVENT
UID:whhs-event-176@walnuthillseagles.com
DTSTART:20260520T090000
DTEND:20260520T103000
SUMMARY:Counselor Meeting
DESCRIPTION:Audience: Faculty & Staff
LOCATION:Conference Room
DTSTAMP:20260420T125151Z
STATUS:CONFIRMED
TRANSP:OPAQUE
END:VEVENT
BEGIN:VEVENT
UID:whhs-event-314@walnuthillseagles.com
DTSTART:20260520T151500
DTEND:20260520T161500
SUMMARY:Counseling Department Meeting
DESCRIPTION:Audience: Google
LOCATION:Conference Room
DTSTAMP:20260420T125151Z
STATUS:CONFIRMED
TRANSP:OPAQUE
END:VEVENT
BEGIN:VEVENT
UID:whhs-event-142@walnuthillseagles.com
DTSTART:20260521T180000
DTEND:20260521T203000
SUMMARY:WHHS Graduation
DESCRIPTION:Audience: Faculty & Staff, Parents & Guardians, Students\nGrade Level: 12th Grade
LOCATION:Fifth Third Arena\, University of Cincinnati
DTSTAMP:20260420T125151Z
STATUS:CONFIRMED
TRANSP:OPAQUE
END:VEVENT
BEGIN:VEVENT
UID:whhs-event-315@walnuthillseagles.com
DTSTART:20260521T180000
DTEND:20260521T203000
SUMMARY:WHHS Graduation
DESCRIPTION:Audience: Google
LOCATION:Fifth Third Arena\, 2700 O'Varsity Way\, Cincinnati\, OH 45221\, USA
DTSTAMP:20260420T125151Z
STATUS:CONFIRMED
TRANSP:OPAQUE
END:VEVENT
BEGIN:VEVENT
UID:whhs-event-143@walnuthillseagles.com
DTSTART:20260525
DTEND:20260525
SUMMARY:Memorial Day Holiday - School Closed
DTSTAMP:20260420T125151Z
STATUS:CONFIRMED
TRANSP:OPAQUE
END:VEVENT
BEGIN:VEVENT
UID:whhs-event-316@walnuthillseagles.com
DTSTART:20260525
DTEND:20260526
SUMMARY:Memorial Day Holiday - School Closed
DESCRIPTION:Audience: Google
DTSTAMP:20260420T125151Z
STATUS:CONFIRMED
TRANSP:OPAQUE
END:VEVENT
BEGIN:VEVENT
UID:whhs-event-317@walnuthillseagles.com
DTSTART:20260526T085500
DTEND:20260526T095000
SUMMARY:Affinity Group Meeting
DESCRIPTION:Join with Google Meet: https://meet.google.com/ghc-xjyh-qjz\n\nLearn more about Meet at: https://support.google.com/a/users/answer/9282720\n\nAudience: Google
LOCATION:Conference Room
DTSTAMP:20260420T125151Z
STATUS:CONFIRMED
TRANSP:OPAQUE
END:VEVENT
BEGIN:VEVENT
UID:whhs-event-318@walnuthillseagles.com
DTSTART:20260526T122000
DTEND:20260526T131000
SUMMARY:Affinity Group Meeting
DESCRIPTION:Audience: Google
LOCATION:Conference Room
DTSTAMP:20260420T125151Z
STATUS:CONFIRMED
TRANSP:OPAQUE
END:VEVENT
BEGIN:VEVENT
UID:whhs-event-177@walnuthillseagles.com
DTSTART:20260527T090000
DTEND:20260527T103000
SUMMARY:Counselor Meeting
DESCRIPTION:Audience: Faculty & Staff
LOCATION:Conference Room
DTSTAMP:20260420T125151Z
STATUS:CONFIRMED
TRANSP:OPAQUE
END:VEVENT
BEGIN:VEVENT
UID:whhs-event-144@walnuthillseagles.com
DTSTART:20260528
DTEND:20260528
SUMMARY:Last Day of School
DESCRIPTION:Audience: Community, Donors, Faculty & Staff, Parents & Guardians, Prospective Families, Students
DTSTAMP:20260420T125151Z
STATUS:CONFIRMED
TRANSP:OPAQUE
END:VEVENT
BEGIN:VEVENT
UID:whhs-event-319@walnuthillseagles.com
DTSTART:20260528
DTEND:20260529
SUMMARY:Last Day of School
DESCRIPTION:Audience: Google
DTSTAMP:20260420T125151Z
STATUS:CONFIRMED
TRANSP:OPAQUE
END:VEVENT
BEGIN:VEVENT
UID:whhs-event-372@walnuthillseagles.com
DTSTART:20260620T070000
DTEND:20260620T093000
SUMMARY:Math Placement Testing
DESCRIPTION:Audience: Google
LOCATION:Cafeteria Main
DTSTAMP:20260420T125151Z
STATUS:CONFIRMED
TRANSP:OPAQUE
END:VEVENT
BEGIN:VEVENT
UID:whhs-event-373@walnuthillseagles.com
DTSTART:20260810T100000
DTEND:20260810T140000
SUMMARY:J-Camp 2026
DESCRIPTION:Join with Google Meet: https://meet.google.com/gbj-xfih-eur\n\nLearn more about Meet at: https://support.google.com/a/users/answer/9282720\n\nAudience: Google
DTSTAMP:20260420T125151Z
STATUS:CONFIRMED
TRANSP:OPAQUE
END:VEVENT
BEGIN:VEVENT
UID:whhs-event-320@walnuthillseagles.com
DTSTART:20260925T183000
DTEND:20260925T213000
SUMMARY:Homecoming Game
DESCRIPTION:Audience: Google
LOCATION:Marx Stadium at Walnut Hills\, 1300 Jonathan Ave\, Cincinnati\, OH 45207\, USA
DTSTAMP:20260420T125151Z
STATUS:CONFIRMED
TRANSP:OPAQUE
END:VEVENT
BEGIN:VEVENT
UID:whhs-event-321@walnuthillseagles.com
DTSTART:20260926T200000
DTEND:20260926T233000
SUMMARY:Homecoming Dance
DESCRIPTION:Audience: Google
LOCATION:Walnut Hills High School\, 3250 Victory Pkwy\, Cincinnati\, OH 45207\, USA
DTSTAMP:20260420T125151Z
STATUS:CONFIRMED
TRANSP:OPAQUE
END:VEVENT
BEGIN:VEVENT
UID:whhs-event-322@walnuthillseagles.com
DTSTART:20261016T151500
DTEND:20261016T170000
SUMMARY:Boogie Bash
DESCRIPTION:JH Gym\n\nAudience: Google
LOCATION:Walnut Hills High School\, 3250 Victory Pkwy\, Cincinnati\, OH 45207\, USA
DTSTAMP:20260420T125151Z
STATUS:CONFIRMED
TRANSP:OPAQUE
END:VEVENT
BEGIN:VEVENT
UID:whhs-event-323@walnuthillseagles.com
DTSTART:20261017T130000
DTEND:20261017T150000
SUMMARY:Trunk or Treat
DESCRIPTION:JH Gym\n\nAudience: Google
LOCATION:Walnut Hills High School\, 3250 Victory Pkwy\, Cincinnati\, OH 45207\, USA
DTSTAMP:20260420T125151Z
STATUS:CONFIRMED
TRANSP:OPAQUE
END:VEVENT
BEGIN:VEVENT
UID:whhs-event-334@walnuthillseagles.com
DTSTART:20261114
DTEND:20261114
SUMMARY:WHHS Alumni Hall of Fame-Saturday\, November 14\,2026
DESCRIPTION:WHHS Alumni Hall of Fame - Saturday\, November 14\, 2026\n\nAudience: Alumni
DTSTAMP:20260420T125151Z
STATUS:CONFIRMED
TRANSP:OPAQUE
END:VEVENT
BEGIN:VEVENT
UID:whhs-event-324@walnuthillseagles.com
DTSTART:20270416T190000
DTEND:20270416T203000
SUMMARY:Twilight Ball
DESCRIPTION:Audience: Google
LOCATION:Jr. High Gym
DTSTAMP:20260420T125151Z
STATUS:CONFIRMED
TRANSP:OPAQUE
END:VEVENT
BEGIN:VEVENT
UID:whhs-event-325@walnuthillseagles.com
DTSTART:20270417T190000
DTEND:20270417T210000
SUMMARY:Frosh
DESCRIPTION:Audience: Google
LOCATION:Jr. High Gym
DTSTAMP:20260420T125151Z
STATUS:CONFIRMED
TRANSP:OPAQUE
END:VEVENT
END:VCALENDAR